BEGIN:VCALENDAR
VERSION:2.0
PRODID:-//Lonca SEM - ECPv5.3.1.1//NONSGML v1.0//EN
CALSCALE:GREGORIAN
METHOD:PUBLISH
X-WR-CALNAME:Lonca SEM
X-ORIGINAL-URL:https://loncasem.issb.edu.tr
X-WR-CALDESC:Lonca SEM için etkinlikler
BEGIN:VTIMEZONE
TZID:Europe/Moscow
BEGIN:STANDARD
TZOFFSETFROM:+0300
TZOFFSETTO:+0300
TZNAME:MSK
DTSTART:20210101T000000
END:STANDARD
END:VTIMEZONE
BEGIN:VEVENT
DTSTART;TZID=Europe/Moscow:20210302T110000
DTEND;TZID=Europe/Moscow:20210304T130000
DTSTAMP:20260423T020800
CREATED:20210219T064733Z
LAST-MODIFIED:20210219T064733Z
UID:3981-1614682800-1614862800@loncasem.issb.edu.tr
SUMMARY:2 Günlük Workshop
DESCRIPTION:Eğitimin Amacı \nKatılımcıların el işi ve doğal taşlardan kısa sürede kendi mücevher tarzlarını yaratmalarına olanak tanıyan bir programdır. \nProgramın içeriği \nÇift kişiler için Ör. karı – koca / anne – çocuk toplamda iki  adet ürün yapacaklar. \n1 – Eğitim: 2 adet aksesuar (yüzük\, küpe\, kolye\, bilezik (5-10 gram)\, (2 adet doğal taş) (Akik\, kehribar\, turkuaz\, inci\, ametist\, yeşim\, yakut\, zümrüt\, safir\, malahit\, topaz\, sitrin\, garnet) \nMaden: Bronz (altın veya gümüş kaplamalı) \n2 – Eğitim: 2 adet aksesuar (yüzük\, küpe\, kolye\, bilezik (5 -10 gram) (2 adet doğal taş) akik\, kehribar\, turkuaz\, inci\, ametist\, yeşim\, yakut\, zümrüt\, safir\, malahit\, topaz\, sitrin\, garnet \nMaden: Gümüş (925 ayar) \nKimler katılabilir? \nKadın-Erkek çiftler\, anne\, baba ve çocuklar \n  \nEğitim Detayları İçin Tıklayınız  \nKayıt İçin Tıklayınız \n  \n 
URL:https://loncasem.issb.edu.tr/takvim/2-gunluk-workshop/
ATTACH;FMTTYPE=image/jpeg:https://loncasem.issb.edu.tr/wp-content/uploads/2021/02/WORKKKK.jpg
END:VEVENT
END:VCALENDAR