BEGIN:VCALENDAR
VERSION:2.0
PRODID:-//Lonca SEM - ECPv5.3.1.1//NONSGML v1.0//EN
CALSCALE:GREGORIAN
METHOD:PUBLISH
X-WR-CALNAME:Lonca SEM
X-ORIGINAL-URL:https://loncasem.issb.edu.tr
X-WR-CALDESC:Lonca SEM için etkinlikler
BEGIN:VTIMEZONE
TZID:Europe/Moscow
BEGIN:STANDARD
TZOFFSETFROM:+0300
TZOFFSETTO:+0300
TZNAME:MSK
DTSTART:20220101T000000
END:STANDARD
END:VTIMEZONE
BEGIN:VEVENT
DTSTART;TZID=Europe/Moscow:20220829T150000
DTEND;TZID=Europe/Moscow:20220829T170000
DTSTAMP:20260426T002802
CREATED:20220822T134312Z
LAST-MODIFIED:20220822T134447Z
UID:7729-1661785200-1661792400@loncasem.issb.edu.tr
SUMMARY:Lütfiye Kösten Sanatla Terapi - Kendini Anlatma
DESCRIPTION:Son Kayıt Tarihi: 25 Ağustos Perşembe \n\nMalzemeler katılımcıya aittir.\nGerekli Malzemeler:\n– A3 resim (eskiz) kağıdı\n– Boya kalemleri (pastel boya\, toz pastel\, suluboya)
URL:https://loncasem.issb.edu.tr/takvim/sanatla-terapi-kendini-anlatma/
END:VEVENT
BEGIN:VEVENT
DTSTART;TZID=Europe/Moscow:20220831T150000
DTEND;TZID=Europe/Moscow:20220831T160000
DTSTAMP:20260426T002802
CREATED:20220822T135034Z
LAST-MODIFIED:20220822T135436Z
UID:7733-1661958000-1661961600@loncasem.issb.edu.tr
SUMMARY:Hürriyet Öztürk Gece Makyajı
DESCRIPTION:Son Kayıt Tarihi: 26 Ağustos Cuma \n\nMalzemeler katılımcıya aittir.\nGerekli malzemeler:\n– Makyaj bazı (fondötenden önce yüze uygulanan şeffaf bir jeldir)\n– Kapatıcı\n– Allık\n– Fondöten\n– Yarı transparan pudra\n– Göz farı\n– Takma kirpik\n– Maskara\n– Ruj\n– Siyah göz kalemi
URL:https://loncasem.issb.edu.tr/takvim/hurriyet-ozturk-gece-makyaji/
END:VEVENT
BEGIN:VEVENT
DTSTART;TZID=Europe/Moscow:20220901T150000
DTEND;TZID=Europe/Moscow:20220901T163000
DTSTAMP:20260426T002802
CREATED:20220822T140041Z
LAST-MODIFIED:20220822T140041Z
UID:7735-1662044400-1662049800@loncasem.issb.edu.tr
SUMMARY:Hande Acı Ekmek Yapımı Brioche Ekmeği (Fransa)
DESCRIPTION:Son Kayıt Tarihi: 29 Ağustos Pazartesi \n\nMalzemeler:\n– Un 500 gr\n– Tuz 12 gr\n– Şeker 65 gr\n– Yumurta 6 adet\n– Süt 24 ml\n– Maya 22 gr\n– Tereyağı 250 gr\n\n 
URL:https://loncasem.issb.edu.tr/takvim/hande-aci-ekmek-yapimi-brioche-ekmegi-fransa/
END:VEVENT
BEGIN:VEVENT
DTSTART;TZID=Europe/Moscow:20220906T153000
DTEND;TZID=Europe/Moscow:20220906T170000
DTSTAMP:20260426T002802
CREATED:20220822T140508Z
LAST-MODIFIED:20220822T140508Z
UID:7737-1662478200-1662483600@loncasem.issb.edu.tr
SUMMARY:Nicoleta Morgül Keçe Sabun Yapımı
DESCRIPTION:Son Kayıt Tarihi: 1 Eylül Perşembe \n\nMalzemeler katılımcıya aittir.\nGerekli malzemeler:\n– 30 gr keçe yün (mavi\, açık yeşil ve sarı)\n– 1 takım keçe iğnesi\n– 1 adet beyaz sabun
URL:https://loncasem.issb.edu.tr/takvim/nicoleta-morgul-kece-sabun-yapimi/
END:VEVENT
BEGIN:VEVENT
DTSTART;TZID=Europe/Moscow:20220908T150000
DTEND;TZID=Europe/Moscow:20220908T170000
DTSTAMP:20260426T002802
CREATED:20220822T141521Z
LAST-MODIFIED:20220822T141521Z
UID:7739-1662649200-1662656400@loncasem.issb.edu.tr
SUMMARY:Aylin Ertem Permakültür Hakkında Görüşülecek
DESCRIPTION:Son Kayıt Tarihi: 5 Eylül Pazartesi \nFermente gıdalar (turşu yapımı)
URL:https://loncasem.issb.edu.tr/takvim/aylin-ertem-permakultur-hakkinda-gorusulecek/
END:VEVENT
END:VCALENDAR