BEGIN:VCALENDAR
VERSION:2.0
PRODID:-//Lonca SEM - ECPv5.3.1.1//NONSGML v1.0//EN
CALSCALE:GREGORIAN
METHOD:PUBLISH
X-WR-CALNAME:Lonca SEM
X-ORIGINAL-URL:https://loncasem.issb.edu.tr
X-WR-CALDESC:Lonca SEM için etkinlikler
BEGIN:VTIMEZONE
TZID:Europe/Moscow
BEGIN:STANDARD
TZOFFSETFROM:+0300
TZOFFSETTO:+0300
TZNAME:MSK
DTSTART:20210101T000000
END:STANDARD
END:VTIMEZONE
BEGIN:VEVENT
DTSTART;TZID=Europe/Moscow:20210301T140000
DTEND;TZID=Europe/Moscow:20210524T160000
DTSTAMP:20260423T020232
CREATED:20210219T065624Z
LAST-MODIFIED:20210219T065624Z
UID:3986-1614607200-1621872000@loncasem.issb.edu.tr
SUMMARY:3 Aylık El İşi Mücevherat Eğitimi
DESCRIPTION:Eğitimin Amacı \nKatılımcıların el işi ve doğal taşlardan kısa sürede kendi mücevher tarzlarını yaratmalarına olanak tanıyan bir programdır. \n  \nEğitim Detayları İçin Tıklayınız  \nKayıt İçin Tıklayınız \n  \n 
URL:https://loncasem.issb.edu.tr/takvim/3-aylik-el-isi-mucevherat-egitimi/
ATTACH;FMTTYPE=image/jpeg:https://loncasem.issb.edu.tr/wp-content/uploads/2021/02/Elişi.jpg
END:VEVENT
END:VCALENDAR