BEGIN:VCALENDAR
VERSION:2.0
PRODID:-//Lonca SEM - ECPv5.3.1.1//NONSGML v1.0//EN
CALSCALE:GREGORIAN
METHOD:PUBLISH
X-WR-CALNAME:Lonca SEM
X-ORIGINAL-URL:https://loncasem.issb.edu.tr
X-WR-CALDESC:Lonca SEM için etkinlikler
BEGIN:VTIMEZONE
TZID:Europe/Moscow
BEGIN:STANDARD
TZOFFSETFROM:+0300
TZOFFSETTO:+0300
TZNAME:MSK
DTSTART:20200101T000000
END:STANDARD
END:VTIMEZONE
BEGIN:VEVENT
DTSTART;TZID=Europe/Moscow:20200514T160000
DTEND;TZID=Europe/Moscow:20200515T180000
DTSTAMP:20260424T072947
CREATED:20160316T094710Z
LAST-MODIFIED:20200512T104637Z
UID:610-1589472000-1589565600@loncasem.issb.edu.tr
SUMMARY:Online YouTube Atölyesi
DESCRIPTION:Alphan Ecevit ile YouTuber Nasıl Olunur? \nEğitim Detayları İçin Tıklayınız
URL:https://loncasem.issb.edu.tr/takvim/ahla-egitim/
CATEGORIES:Eğitim
ATTACH;FMTTYPE=image/png:https://loncasem.issb.edu.tr/wp-content/uploads/2016/03/Youtuber_FSSEM-01.png
ORGANIZER;CN="FSSEM":MAILTO:iletisim@faruksarac.edu.tr
END:VEVENT
END:VCALENDAR