BEGIN:VCALENDAR
VERSION:2.0
PRODID:-//Lonca SEM - ECPv5.3.1.1//NONSGML v1.0//EN
CALSCALE:GREGORIAN
METHOD:PUBLISH
X-WR-CALNAME:Lonca SEM
X-ORIGINAL-URL:https://loncasem.issb.edu.tr
X-WR-CALDESC:Lonca SEM için etkinlikler
BEGIN:VTIMEZONE
TZID:Europe/Moscow
BEGIN:STANDARD
TZOFFSETFROM:+0300
TZOFFSETTO:+0300
TZNAME:MSK
DTSTART:20210101T000000
END:STANDARD
END:VTIMEZONE
BEGIN:VEVENT
DTSTART;TZID=Europe/Moscow:20210219T190000
DTEND;TZID=Europe/Moscow:20210219T210000
DTSTAMP:20260423T161152
CREATED:20210201T075111Z
LAST-MODIFIED:20210201T075111Z
UID:3851-1613761200-1613768400@loncasem.issb.edu.tr
SUMMARY:Louvre Müzesi’ni Keşfet
DESCRIPTION:Eğitimin Amacı \nBu eğitimin amacı dünyanın en büyük sanat müzelerinden biri olan Louvre Müzesi’ni Keşfetmek ve entelektüel bir seviyede keyifli bir sanat tarihi yolculuğuna çıkmak. \nProgramın İçeriği \nFransa’nın vitrini\, modern müzeciliğin mihenk taşı olan Louvre Müzesi\, bütün zamanların en görkemli koleksiyonlarından birine ev sahipliği yapıyor. Bugün\, Romanlara ve filmlere ilham veren Louvre ve koleksiyonunu mercek altına alıyoruz. Fransız Devrimi’nin ve Paris’in sembolü haline gelen müzede Leonardo da Vinci\, Jack Louis David\, Rembrandt\, Eugene Delacroix gibi ustaların eserlerini dönem ve üslup bağlamında inceliyoruz. Müze koleksiyonunu zenginleştiren Antik Çağ’ın görkemini yansıtan Milo Venüsü\, Semadirek Nikesi gibi eserlerin izini sürüyoruz.   \n  \nEğitim Detayları İçin Tıklayınız  \nKayıt İçin Tıklayınız
URL:https://loncasem.issb.edu.tr/takvim/louvre-muzesini-kesfet-2-2/
ATTACH;FMTTYPE=image/jpeg:https://loncasem.issb.edu.tr/wp-content/uploads/2021/01/5f5895ff18c7732ff0b547a3.jpg
END:VEVENT
END:VCALENDAR