BEGIN:VCALENDAR
VERSION:2.0
PRODID:-//Lonca SEM - ECPv5.3.1.1//NONSGML v1.0//EN
CALSCALE:GREGORIAN
METHOD:PUBLISH
X-WR-CALNAME:Lonca SEM
X-ORIGINAL-URL:https://loncasem.issb.edu.tr
X-WR-CALDESC:Lonca SEM için etkinlikler
BEGIN:VTIMEZONE
TZID:Europe/Moscow
BEGIN:STANDARD
TZOFFSETFROM:+0300
TZOFFSETTO:+0300
TZNAME:MSK
DTSTART:20210101T000000
END:STANDARD
END:VTIMEZONE
BEGIN:VEVENT
DTSTART;TZID=Europe/Moscow:20210130T190000
DTEND;TZID=Europe/Moscow:20210213T203000
DTSTAMP:20260423T175001
CREATED:20210201T074711Z
LAST-MODIFIED:20210201T074827Z
UID:3849-1612033200-1613248200@loncasem.issb.edu.tr
SUMMARY:Mitolojinin Sanat Yolculuğu
DESCRIPTION:ğitimin Amacı \nBu eğitimin amacı tarih boyunca mitoloji konusunu elen alan sanatçıların izinde ilerleyerek\, mitoloji ve sanat alanında entelektüel seviyede keyifli bir yolculuğa çıkmak. \nProgramın içeriği \nYunan ve Roma mitolojisinin kahramanlarına ilişkin öyküler binlerce yıldır sanatı esinler. Batı Sanatını resimden heykele\, bütün zamanlar boyunca etkilemeyi başaran Akdenizli tanrıların\,  fanilerle ilişkilerini\, sembolik anlamlarını\, evreni paylaşmalarını sanat tarihinde iz bırakmış ustaların eserleri üzerinden inceleyeceğiz. Atölyemiz 3 hafta olarak tasarlanmıştır. \n\nHafta (30 Ocak) Yunan mitolojisinin doğuşu ve kaynakları\, evrenin ve insanın yaratılması; 2. Hafta (6 Şubat)\, Olympos’lu tanrılar kuşağı\, Zeus ve çevresindeki tanrılar; 3. Hafta (13 Şubat)\, insanların yazgısını etkileyen tanrılar ve yarı tanrıların dünyası ve sanat eserlerine yansımalarını konuşacağız\n\n  \nEğitim Detayları İçin Tıklayınız  \nKayıt İçin Tıklayınız \n 
URL:https://loncasem.issb.edu.tr/takvim/mitolojinin-sanat-yolculugu-2-3/
ATTACH;FMTTYPE=image/png:https://loncasem.issb.edu.tr/wp-content/uploads/2021/01/mitoloji-1503.png
END:VEVENT
END:VCALENDAR