BEGIN:VCALENDAR
VERSION:2.0
PRODID:-//Lonca SEM - ECPv5.3.1.1//NONSGML v1.0//EN
CALSCALE:GREGORIAN
METHOD:PUBLISH
X-WR-CALNAME:Lonca SEM
X-ORIGINAL-URL:https://loncasem.issb.edu.tr
X-WR-CALDESC:Lonca SEM için etkinlikler
BEGIN:VTIMEZONE
TZID:Europe/Moscow
BEGIN:STANDARD
TZOFFSETFROM:+0300
TZOFFSETTO:+0300
TZNAME:MSK
DTSTART:20210101T000000
END:STANDARD
END:VTIMEZONE
BEGIN:VEVENT
DTSTART;TZID=Europe/Moscow:20210301T110000
DTEND;TZID=Europe/Moscow:20210419T210000
DTSTAMP:20260423T082233
CREATED:20210201T080026Z
LAST-MODIFIED:20210201T080026Z
UID:3861-1614596400-1618866000@loncasem.issb.edu.tr
SUMMARY:Tıp İngilizcesi
DESCRIPTION:EĞİTİMIN AMACI \nYoğun İngilizce Tıp Programı\, özel bir eğitim müfredatı kullanarak katılımcıların ve öğrencilerin tıp alanında gerekli olan mesleki ingilizce yeterliliğinin geliştirilmesini amaçlar. Müfredat\, tıp uzmanları için tasarlanmış olup misafir doktorlar\, hemşireler ve yöneticilerin de katılacağı dersler ve uygulamaları kapsar. Eğitim\, katılımcıların İngilizce dil kurallarını doğru kullanmalarını sağlayarak sahada iletişim kurmaya hazırlamakla birlikte İngilizce konuşulan ortamlarda – özellikle Amerika Birleşik Devletleri’nde eğitim almalarını ve çalışmalarını sağlar. \nBu eğitim programı tamamlandığında katılımcılara verilecek belge (Katılım Belgesi\, Sertifika) \nBroward Collage Üniversitesi tarafından kursu başarıyla tamamlayan öğrencilere katıldıkları programı ve aldıkları notları gösteren katılım sertifikası verilecektir. Öğrenciler ayrıca FSSEM sertifikalarını almaya hak kazanacaktır. \nProgramın İçeriği \nProgram\, her adayın İngilizceye dört ana beceride ne derece hakim olduğunu belirleyerek; Dinleme\, Konuşma\, yazma – tıp mesleğine özgü kelime bilgisi ile yazma ve iletişim becerilerini geliştirir. \nEğitim bitiminde katılımcılar\, ingilizceyi doğru kalıplarla profesyonel bir şekilde kullanarak\, uluslararası hastalar ve diğer tıp uzmanları ile sözlü ve yazılı olarak akıcı bir şekilde iletişim kurabilmelidir. \n  \nEğitim Detayları İçin Tıklayınız  \nKayıt İçin Tıklayınız
URL:https://loncasem.issb.edu.tr/takvim/tip-ingilizcesi2-2-2-2/
ATTACH;FMTTYPE=image/png:https://loncasem.issb.edu.tr/wp-content/uploads/2020/12/Tip_ING_FSSEM-02.png
END:VEVENT
END:VCALENDAR